BEGIN:VCALENDAR
VERSION:2.0
PRODID:-//Discover Staples - ECPv6.15.20//NONSGML v1.0//EN
CALSCALE:GREGORIAN
METHOD:PUBLISH
X-WR-CALNAME:Discover Staples
X-ORIGINAL-URL:https://discoverstaples.com
X-WR-CALDESC:Events for Discover Staples
REFRESH-INTERVAL;VALUE=DURATION:PT1H
X-Robots-Tag:noindex
X-PUBLISHED-TTL:PT1H
BEGIN:VTIMEZONE
TZID:America/Chicago
BEGIN:DAYLIGHT
TZOFFSETFROM:-0600
TZOFFSETTO:-0500
TZNAME:CDT
DTSTART:20220313T080000
END:DAYLIGHT
BEGIN:STANDARD
TZOFFSETFROM:-0500
TZOFFSETTO:-0600
TZNAME:CST
DTSTART:20221106T070000
END:STANDARD
BEGIN:DAYLIGHT
TZOFFSETFROM:-0600
TZOFFSETTO:-0500
TZNAME:CDT
DTSTART:20230312T080000
END:DAYLIGHT
BEGIN:STANDARD
TZOFFSETFROM:-0500
TZOFFSETTO:-0600
TZNAME:CST
DTSTART:20231105T070000
END:STANDARD
BEGIN:DAYLIGHT
TZOFFSETFROM:-0600
TZOFFSETTO:-0500
TZNAME:CDT
DTSTART:20240310T080000
END:DAYLIGHT
BEGIN:STANDARD
TZOFFSETFROM:-0500
TZOFFSETTO:-0600
TZNAME:CST
DTSTART:20241103T070000
END:STANDARD
END:VTIMEZONE
BEGIN:VEVENT
DTSTART;TZID=America/Chicago:20230519T140000
DTEND;TZID=America/Chicago:20230519T160000
DTSTAMP:20260421T012337
CREATED:20230511T213405Z
LAST-MODIFIED:20230511T213405Z
UID:17838-1684504800-1684512000@discoverstaples.com
SUMMARY:"Quilters" Theatrical Performance
DESCRIPTION:Live theatrical performance of a musical play called “Quilters”
URL:https://discoverstaples.com/event/quilters-theatrical-performance/
CATEGORIES:Community,Music
ATTACH;FMTTYPE=image/jpeg:https://discoverstaples.com/wp-content/uploads/2023/05/Quilters-Flyer.jpg
END:VEVENT
BEGIN:VEVENT
DTSTART;TZID=America/Chicago:20230520T190000
DTEND;TZID=America/Chicago:20230520T210000
DTSTAMP:20260421T012337
CREATED:20230506T134054Z
LAST-MODIFIED:20230506T134054Z
UID:17822-1684609200-1684616400@discoverstaples.com
SUMMARY:The Afterglow
DESCRIPTION:The Staples Area Men’s Chorus (SAMC) will be performing its last concert of the season at the Sacred Heart Area School. The Chorus will also sing along with the River Rats\, a Staples area brass rhythm and blues band. Tickets are $25 and include food and beverages. Proceeds go to support SAMC musical outreach throughout the year. Tickets are available from any SAMC member and at the Nelson Insurance Agency\, 325 2nd Ave NE\, Staples MN. You may also text the number of tickets and your name to 218.330.6346 and your tickets will be reserved for will call.
URL:https://discoverstaples.com/event/the-afterglow/
LOCATION:Sacred Heart Area School\, 324 Fourth Street NE\, Staples\, MN\, 56479\, United States
CATEGORIES:Music
END:VEVENT
BEGIN:VEVENT
DTSTART;TZID=America/Chicago:20230520T190000
DTEND;TZID=America/Chicago:20230520T210000
DTSTAMP:20260421T012337
CREATED:20230706T004013Z
LAST-MODIFIED:20230706T004013Z
UID:17818-1684609200-1684616400@discoverstaples.com
SUMMARY:The Afterglow
DESCRIPTION:The Staples Area Men’s Chorus (SAMC) will be performing its last concert of the season at the Sacred Heart Area School. The Chorus will also sing along with the River Rats\, a Staples area brass rhythm and blues band. Tickets are $25 and include food and beverages. Proceeds go to support SAMC musical outreach throughout the year. Tickets are available from any SAMC member and at the Nelson Insurance Agency\, 325 2nd Ave NE\, Staples MN. You may also text the number of tickets and your name to 218.330.6346 and your tickets will be reserved for will call.
URL:https://discoverstaples.com/event/the-afterglow-2/
LOCATION:Sacred Heart Area School\, 324 Fourth Street NE\, Staples\, MN\, 56479\, United States
CATEGORIES:Music
ATTACH;FMTTYPE=image/jpeg:https://discoverstaples.com/wp-content/uploads/2023/05/2023MAY-SAMC-Afterglow.jpg
END:VEVENT
END:VCALENDAR