BEGIN:VCALENDAR
VERSION:2.0
PRODID:-//Discover Staples - ECPv6.15.20//NONSGML v1.0//EN
CALSCALE:GREGORIAN
METHOD:PUBLISH
X-WR-CALNAME:Discover Staples
X-ORIGINAL-URL:https://discoverstaples.com
X-WR-CALDESC:Events for Discover Staples
REFRESH-INTERVAL;VALUE=DURATION:PT1H
X-Robots-Tag:noindex
X-PUBLISHED-TTL:PT1H
BEGIN:VTIMEZONE
TZID:America/Chicago
BEGIN:DAYLIGHT
TZOFFSETFROM:-0600
TZOFFSETTO:-0500
TZNAME:CDT
DTSTART:20220313T080000
END:DAYLIGHT
BEGIN:STANDARD
TZOFFSETFROM:-0500
TZOFFSETTO:-0600
TZNAME:CST
DTSTART:20221106T070000
END:STANDARD
BEGIN:DAYLIGHT
TZOFFSETFROM:-0600
TZOFFSETTO:-0500
TZNAME:CDT
DTSTART:20230312T080000
END:DAYLIGHT
BEGIN:STANDARD
TZOFFSETFROM:-0500
TZOFFSETTO:-0600
TZNAME:CST
DTSTART:20231105T070000
END:STANDARD
BEGIN:DAYLIGHT
TZOFFSETFROM:-0600
TZOFFSETTO:-0500
TZNAME:CDT
DTSTART:20240310T080000
END:DAYLIGHT
BEGIN:STANDARD
TZOFFSETFROM:-0500
TZOFFSETTO:-0600
TZNAME:CST
DTSTART:20241103T070000
END:STANDARD
END:VTIMEZONE
BEGIN:VEVENT
DTSTART;TZID=America/Chicago:20230709T190000
DTEND;TZID=America/Chicago:20230709T210000
DTSTAMP:20260420T222318
CREATED:20230706T021447Z
LAST-MODIFIED:20230706T021447Z
UID:17921-1688929200-1688936400@discoverstaples.com
SUMMARY:Music In the Park
DESCRIPTION:Join us for our weekly Music in the Park Concert Series. \nBring a lawn chair or blanket and enjoy some wonderful music.  All are welcome!! \nAll concerts are FREE! \nIn the event of rain the concert will be held at: \nFaith Lutheran Church \n\n\n\n430 12th St NE\, Staples MN – Ph: 218.894.1546\n\n\n\n\n\n 
URL:https://discoverstaples.com/event/music-in-the-park/
LOCATION:Northern Pacific Park\, 610 6th St NE\, Staples\, 56479\, United States
CATEGORIES:Community,Music,Pet Friendly
ATTACH;FMTTYPE=image/png:https://discoverstaples.com/wp-content/uploads/2023/07/Music-in-the-Park-Staples-2023.png
ORGANIZER;CN="Staples Motley Area Arts Council":MAILTO:smaartscouncil@gmail.com
END:VEVENT
END:VCALENDAR