BEGIN:VCALENDAR
VERSION:2.0
PRODID:-//Discover Staples - ECPv6.15.20//NONSGML v1.0//EN
CALSCALE:GREGORIAN
METHOD:PUBLISH
X-ORIGINAL-URL:https://discoverstaples.com
X-WR-CALDESC:Events for Discover Staples
REFRESH-INTERVAL;VALUE=DURATION:PT1H
X-Robots-Tag:noindex
X-PUBLISHED-TTL:PT1H
BEGIN:VTIMEZONE
TZID:America/Chicago
BEGIN:DAYLIGHT
TZOFFSETFROM:-0600
TZOFFSETTO:-0500
TZNAME:CDT
DTSTART:20230312T080000
END:DAYLIGHT
BEGIN:STANDARD
TZOFFSETFROM:-0500
TZOFFSETTO:-0600
TZNAME:CST
DTSTART:20231105T070000
END:STANDARD
BEGIN:DAYLIGHT
TZOFFSETFROM:-0600
TZOFFSETTO:-0500
TZNAME:CDT
DTSTART:20240310T080000
END:DAYLIGHT
BEGIN:STANDARD
TZOFFSETFROM:-0500
TZOFFSETTO:-0600
TZNAME:CST
DTSTART:20241103T070000
END:STANDARD
BEGIN:DAYLIGHT
TZOFFSETFROM:-0600
TZOFFSETTO:-0500
TZNAME:CDT
DTSTART:20250309T080000
END:DAYLIGHT
BEGIN:STANDARD
TZOFFSETFROM:-0500
TZOFFSETTO:-0600
TZNAME:CST
DTSTART:20251102T070000
END:STANDARD
END:VTIMEZONE
BEGIN:VEVENT
DTSTART;TZID=America/Chicago:20241121T190000
DTEND;TZID=America/Chicago:20241121T210000
DTSTAMP:20260419T213913
CREATED:20241120T235232Z
LAST-MODIFIED:20241120T235232Z
UID:19066-1732215600-1732222800@discoverstaples.com
SUMMARY:Staples-Motley presents...The Adams Family
DESCRIPTION:
URL:https://discoverstaples.com/event/staples-motley-presents-the-adams-family/
LOCATION:Centennial Auditorium- Staples Motley Middle/HS\, 401 Centennial Dr\, Staples\, MN\, 56479\, United States
END:VEVENT
BEGIN:VEVENT
DTSTART;TZID=America/Chicago:20241121T190000
DTEND;TZID=America/Chicago:20241121T210000
DTSTAMP:20260419T213913
CREATED:20241120T235232Z
LAST-MODIFIED:20241120T235232Z
UID:19066-1732215600-1732222800@discoverstaples.com
SUMMARY:Staples-Motley presents...The Adams Family
DESCRIPTION:
URL:https://discoverstaples.com/event/staples-motley-presents-the-adams-family/
LOCATION:Centennial Auditorium- Staples Motley Middle/HS\, 401 Centennial Dr\, Staples\, MN\, 56479\, United States
END:VEVENT
BEGIN:VEVENT
DTSTART;TZID=America/Chicago:20240309T190000
DTEND;TZID=America/Chicago:20240309T220000
DTSTAMP:20260419T213913
CREATED:20240313T145853Z
LAST-MODIFIED:20240313T145853Z
UID:18324-1710010800-1710021600@discoverstaples.com
SUMMARY:LIVE MUSIC
DESCRIPTION:Bring your Party to Frosty’s Spirits and Social Club! FREE LIVE MUSIC! Featuring Chris Frost and Chris Bremmer. Bring your talent! Open Mic for those who do!
URL:https://discoverstaples.com/event/live-music-2/
LOCATION:Batcher Block Opera House\, 418 2nd Ave NE\, Staples\, MI\, 56479\, United States
CATEGORIES:Music
ATTACH;FMTTYPE=image/jpeg:https://discoverstaples.com/wp-content/uploads/2024/03/IMG_1667-1-scaled.jpeg
END:VEVENT
BEGIN:VEVENT
DTSTART;TZID=America/Chicago:20241121T190000
DTEND;TZID=America/Chicago:20241121T210000
DTSTAMP:20260419T213913
CREATED:20241120T235232Z
LAST-MODIFIED:20241120T235232Z
UID:19066-1732215600-1732222800@discoverstaples.com
SUMMARY:Staples-Motley presents...The Adams Family
DESCRIPTION:
URL:https://discoverstaples.com/event/staples-motley-presents-the-adams-family/
LOCATION:Centennial Auditorium- Staples Motley Middle/HS\, 401 Centennial Dr\, Staples\, MN\, 56479\, United States
END:VEVENT
BEGIN:VEVENT
DTSTART;TZID=America/Chicago:20240605T200000
DTEND;TZID=America/Chicago:20240605T233000
DTSTAMP:20260419T213913
CREATED:20240605T200728Z
LAST-MODIFIED:20240605T200728Z
UID:18564-1717617600-1717630200@discoverstaples.com
SUMMARY:Ladies Night- DJ & Karaoke!
DESCRIPTION:Ladies!! Come on out to the Boxcar every Wednesday for Ladies Night! Bring your dance shoes- there will be a DJ and Karaoke!
URL:https://discoverstaples.com/event/ladies-night-dj-karaoke/
LOCATION:The Boxcar\, 102 4th St NE\, Staples\, MN\, 56479\, United States
END:VEVENT
BEGIN:VEVENT
DTSTART;TZID=America/Chicago:20241128T110000
DTEND;TZID=America/Chicago:20241128T130000
DTSTAMP:20260419T213913
CREATED:20241113T015220Z
LAST-MODIFIED:20241113T015220Z
UID:19037-1732791600-1732798800@discoverstaples.com
SUMMARY:FREE Community Holiday Meals Thanksgiving
DESCRIPTION:FREE traditional holiday meals will be served by the Timberlake Hotel staff at Timber’s event center on Thanksgiving day from 11 am – 1 PM. \nMeals will include: Oven roasted turkey\, mashed potatoes and gravy\, vegetables\, warm dinner roll with butter and a freshly baked cookie. Coffee and water will also be provided. \nTo attend reserve your meal at: www.tinyurl.com/staples-community-meals \nMeals for hospital staff and first responders working on Thanksgiving day will be delivered to their respective worksites. \n 
URL:https://discoverstaples.com/event/free-community-holiday-meals-thanksgiving/
LOCATION:Timbers Event Center\, 1220 2nd Ave NE\, STAPLES\, MN\, 56479\, United States
CATEGORIES:Community
ATTACH;FMTTYPE=image/png:https://discoverstaples.com/wp-content/uploads/2024/11/DS-Free-Community-Meals-2024-FINAL-2.png
ORGANIZER;CN="Discover Staples":MAILTO:info@discoverstaples.com
END:VEVENT
BEGIN:VEVENT
DTSTART;TZID=America/Chicago:20241129T170000
DTEND;TZID=America/Chicago:20241129T200000
DTSTAMP:20260419T213913
CREATED:20241127T201022Z
LAST-MODIFIED:20241127T201022Z
UID:19114-1732899600-1732910400@discoverstaples.com
SUMMARY:The North Pole Drive Through Light Display
DESCRIPTION:Get in the Christmas spirit at the annual North Pole Drive Through Holiday Light Display! Fridays\, Saturdays and Sunday from 5pm-8pm\, November 29-December 29. Free Will Donation\, no buses please. \nBrought to you by Discover Staples\, Staples Lions Club\, and the City of Staples Parks & Recreation \n 
URL:https://discoverstaples.com/event/the-north-pole-drive-through-light-display/
LOCATION:Pine Grove Park\, 1012 Pine Grove Rd.\, Staples\, MN\, 56479\, United States
ORGANIZER;CN="Discover Staples":MAILTO:info@discoverstaples.com
END:VEVENT
BEGIN:VEVENT
DTSTART;TZID=America/Chicago:20240112T173000
DTEND;TZID=America/Chicago:20240112T200000
DTSTAMP:20260419T213913
CREATED:20240126T040255Z
LAST-MODIFIED:20240126T040255Z
UID:18219-1705080600-1705089600@discoverstaples.com
SUMMARY:Meat Raffle
DESCRIPTION:Meat Raffle
URL:https://discoverstaples.com/event/meat-raffle/
LOCATION:B&Bs\, Staples\, United States
END:VEVENT
BEGIN:VEVENT
DTSTART;TZID=America/Chicago:20240308T190000
DTEND;TZID=America/Chicago:20240308T220000
DTSTAMP:20260419T213913
CREATED:20240313T145632Z
LAST-MODIFIED:20240313T145632Z
UID:18321-1709924400-1709935200@discoverstaples.com
SUMMARY:LIVE MUSIC
DESCRIPTION:Friday Nights 7:00 PM – 10:00 Featuring Chris Frost & Chris Bremmer and special guests! If you have a talent\, bring it to Frosty’s! Open Mic available to those who do!
URL:https://discoverstaples.com/event/live-music/
LOCATION:Batcher Block Opera House\, 418 2nd Ave NE\, Staples\, MI\, 56479\, United States
CATEGORIES:Music
ATTACH;FMTTYPE=image/jpeg:https://discoverstaples.com/wp-content/uploads/2024/03/IMG_1667-scaled.jpeg
END:VEVENT
BEGIN:VEVENT
DTSTART;TZID=America/Chicago:20240309T130000
DTEND;TZID=America/Chicago:20240309T150000
DTSTAMP:20260419T213913
CREATED:20240306T174739Z
LAST-MODIFIED:20240306T174739Z
UID:18314-1709989200-1709996400@discoverstaples.com
SUMMARY:Bingo @ Beck's
DESCRIPTION:Join us every Saturday at 1:00 for Bingo at Beck’s Burger Co!
URL:https://discoverstaples.com/event/bingo-becks/
LOCATION:Beck’s Burger Co\, 119 3rd St NE\, Staples\, MN\, United States
END:VEVENT
BEGIN:VEVENT
DTSTART;TZID=America/Chicago:20241129T170000
DTEND;TZID=America/Chicago:20241129T200000
DTSTAMP:20260419T213913
CREATED:20241127T201022Z
LAST-MODIFIED:20241127T201022Z
UID:19114-1732899600-1732910400@discoverstaples.com
SUMMARY:The North Pole Drive Through Light Display
DESCRIPTION:Get in the Christmas spirit at the annual North Pole Drive Through Holiday Light Display! Fridays\, Saturdays and Sunday from 5pm-8pm\, November 29-December 29. Free Will Donation\, no buses please. \nBrought to you by Discover Staples\, Staples Lions Club\, and the City of Staples Parks & Recreation \n 
URL:https://discoverstaples.com/event/the-north-pole-drive-through-light-display/
LOCATION:Pine Grove Park\, 1012 Pine Grove Rd.\, Staples\, MN\, 56479\, United States
ORGANIZER;CN="Discover Staples":MAILTO:info@discoverstaples.com
END:VEVENT
BEGIN:VEVENT
DTSTART;TZID=America/Chicago:20241130T173000
DTEND;TZID=America/Chicago:20241130T183000
DTSTAMP:20260419T213913
CREATED:20241106T185917Z
LAST-MODIFIED:20241106T185917Z
UID:19025-1732987800-1732991400@discoverstaples.com
SUMMARY:Staples Holiday Parade of Lights!
DESCRIPTION:Join us for Staples’ FIRST Annual Holiday Parade of Lights! We’re inviting local businesses\, schools\, groups\, clubs\, and community members to participate by entering a float\, vehicle\, or walking in the parade. Everyone is welcome\, and there’s no entry fee!\n\nHow to Participate:Light up your truck\, tractor\, ATV\, boat\, trailer\, semi\, golf cart\, or any other vehicle! This is a fantastic way to showcase your creativity and holiday spirit.\nRegistration:\n• Deadline: November 25\, 2024• To Register: Email your name to Victoria at staplesevents56479@gmail.com or message our Facebook page\, Staples Annual Holiday Parade of Lights.\nAdditional Festivities:After the parade\, join us near the police station for a festive tree lighting ceremony!\n\nContact Information:For more information\, email staplesevents56479@gmail.com or send a message to our Facebook page.\nLet’s bring the holiday magic to Staples! We can’t wait to see you there!
URL:https://discoverstaples.com/event/staples-holiday-parade-of-lights/
LOCATION:MN
ORGANIZER;CN="Staples Chamber of Commerce":MAILTO:stapleschamber@gmail.com
END:VEVENT
BEGIN:VEVENT
DTSTART;TZID=America/Chicago:20240309T190000
DTEND;TZID=America/Chicago:20240309T220000
DTSTAMP:20260419T213913
CREATED:20240313T145853Z
LAST-MODIFIED:20240313T145853Z
UID:18324-1710010800-1710021600@discoverstaples.com
SUMMARY:LIVE MUSIC
DESCRIPTION:Bring your Party to Frosty’s Spirits and Social Club! FREE LIVE MUSIC! Featuring Chris Frost and Chris Bremmer. Bring your talent! Open Mic for those who do!
URL:https://discoverstaples.com/event/live-music-2/
LOCATION:Batcher Block Opera House\, 418 2nd Ave NE\, Staples\, MI\, 56479\, United States
CATEGORIES:Music
ATTACH;FMTTYPE=image/jpeg:https://discoverstaples.com/wp-content/uploads/2024/03/IMG_1667-1-scaled.jpeg
END:VEVENT
BEGIN:VEVENT
DTSTART;TZID=America/Chicago:20241129T170000
DTEND;TZID=America/Chicago:20241129T200000
DTSTAMP:20260419T213913
CREATED:20241127T201022Z
LAST-MODIFIED:20241127T201022Z
UID:19114-1732899600-1732910400@discoverstaples.com
SUMMARY:The North Pole Drive Through Light Display
DESCRIPTION:Get in the Christmas spirit at the annual North Pole Drive Through Holiday Light Display! Fridays\, Saturdays and Sunday from 5pm-8pm\, November 29-December 29. Free Will Donation\, no buses please. \nBrought to you by Discover Staples\, Staples Lions Club\, and the City of Staples Parks & Recreation \n 
URL:https://discoverstaples.com/event/the-north-pole-drive-through-light-display/
LOCATION:Pine Grove Park\, 1012 Pine Grove Rd.\, Staples\, MN\, 56479\, United States
ORGANIZER;CN="Discover Staples":MAILTO:info@discoverstaples.com
END:VEVENT
BEGIN:VEVENT
DTSTART;TZID=America/Chicago:20240605T200000
DTEND;TZID=America/Chicago:20240605T233000
DTSTAMP:20260419T213913
CREATED:20240605T200728Z
LAST-MODIFIED:20240605T200728Z
UID:18564-1717617600-1717630200@discoverstaples.com
SUMMARY:Ladies Night- DJ & Karaoke!
DESCRIPTION:Ladies!! Come on out to the Boxcar every Wednesday for Ladies Night! Bring your dance shoes- there will be a DJ and Karaoke!
URL:https://discoverstaples.com/event/ladies-night-dj-karaoke/
LOCATION:The Boxcar\, 102 4th St NE\, Staples\, MN\, 56479\, United States
END:VEVENT
BEGIN:VEVENT
DTSTART;TZID=America/Chicago:20241129T170000
DTEND;TZID=America/Chicago:20241129T200000
DTSTAMP:20260419T213913
CREATED:20241127T201022Z
LAST-MODIFIED:20241127T201022Z
UID:19114-1732899600-1732910400@discoverstaples.com
SUMMARY:The North Pole Drive Through Light Display
DESCRIPTION:Get in the Christmas spirit at the annual North Pole Drive Through Holiday Light Display! Fridays\, Saturdays and Sunday from 5pm-8pm\, November 29-December 29. Free Will Donation\, no buses please. \nBrought to you by Discover Staples\, Staples Lions Club\, and the City of Staples Parks & Recreation \n 
URL:https://discoverstaples.com/event/the-north-pole-drive-through-light-display/
LOCATION:Pine Grove Park\, 1012 Pine Grove Rd.\, Staples\, MN\, 56479\, United States
ORGANIZER;CN="Discover Staples":MAILTO:info@discoverstaples.com
END:VEVENT
BEGIN:VEVENT
DTSTART;TZID=America/Chicago:20240112T173000
DTEND;TZID=America/Chicago:20240112T200000
DTSTAMP:20260419T213913
CREATED:20240126T040255Z
LAST-MODIFIED:20240126T040255Z
UID:18219-1705080600-1705089600@discoverstaples.com
SUMMARY:Meat Raffle
DESCRIPTION:Meat Raffle
URL:https://discoverstaples.com/event/meat-raffle/
LOCATION:B&Bs\, Staples\, United States
END:VEVENT
BEGIN:VEVENT
DTSTART;TZID=America/Chicago:20240308T190000
DTEND;TZID=America/Chicago:20240308T220000
DTSTAMP:20260419T213913
CREATED:20240313T145632Z
LAST-MODIFIED:20240313T145632Z
UID:18321-1709924400-1709935200@discoverstaples.com
SUMMARY:LIVE MUSIC
DESCRIPTION:Friday Nights 7:00 PM – 10:00 Featuring Chris Frost & Chris Bremmer and special guests! If you have a talent\, bring it to Frosty’s! Open Mic available to those who do!
URL:https://discoverstaples.com/event/live-music/
LOCATION:Batcher Block Opera House\, 418 2nd Ave NE\, Staples\, MI\, 56479\, United States
CATEGORIES:Music
ATTACH;FMTTYPE=image/jpeg:https://discoverstaples.com/wp-content/uploads/2024/03/IMG_1667-scaled.jpeg
END:VEVENT
BEGIN:VEVENT
DTSTART;TZID=America/Chicago:20240309T130000
DTEND;TZID=America/Chicago:20240309T150000
DTSTAMP:20260419T213913
CREATED:20240306T174739Z
LAST-MODIFIED:20240306T174739Z
UID:18314-1709989200-1709996400@discoverstaples.com
SUMMARY:Bingo @ Beck's
DESCRIPTION:Join us every Saturday at 1:00 for Bingo at Beck’s Burger Co!
URL:https://discoverstaples.com/event/bingo-becks/
LOCATION:Beck’s Burger Co\, 119 3rd St NE\, Staples\, MN\, United States
END:VEVENT
BEGIN:VEVENT
DTSTART;TZID=America/Chicago:20241129T170000
DTEND;TZID=America/Chicago:20241129T200000
DTSTAMP:20260419T213913
CREATED:20241127T201022Z
LAST-MODIFIED:20241127T201022Z
UID:19114-1732899600-1732910400@discoverstaples.com
SUMMARY:The North Pole Drive Through Light Display
DESCRIPTION:Get in the Christmas spirit at the annual North Pole Drive Through Holiday Light Display! Fridays\, Saturdays and Sunday from 5pm-8pm\, November 29-December 29. Free Will Donation\, no buses please. \nBrought to you by Discover Staples\, Staples Lions Club\, and the City of Staples Parks & Recreation \n 
URL:https://discoverstaples.com/event/the-north-pole-drive-through-light-display/
LOCATION:Pine Grove Park\, 1012 Pine Grove Rd.\, Staples\, MN\, 56479\, United States
ORGANIZER;CN="Discover Staples":MAILTO:info@discoverstaples.com
END:VEVENT
BEGIN:VEVENT
DTSTART;TZID=America/Chicago:20241207T190000
DTEND;TZID=America/Chicago:20241207T210000
DTSTAMP:20260419T213913
CREATED:20241204T174241Z
LAST-MODIFIED:20241204T174241Z
UID:19140-1733598000-1733605200@discoverstaples.com
SUMMARY:A Community Christmas Celebration
DESCRIPTION:Get into the holiday spirit with A Community Christmas Celebration! \n\n\n\nJoin the Staples Area Men’s & Staples Area Women’s Choruses for a magical evening of festive music and community cheer.
URL:https://discoverstaples.com/event/a-community-christmas-celebration/
LOCATION:Sacred Heart Catholic School\, 310 4th St NE\, Staples\, MN\, 56479\, United States
END:VEVENT
BEGIN:VEVENT
DTSTART;TZID=America/Chicago:20240309T190000
DTEND;TZID=America/Chicago:20240309T220000
DTSTAMP:20260419T213913
CREATED:20240313T145853Z
LAST-MODIFIED:20240313T145853Z
UID:18324-1710010800-1710021600@discoverstaples.com
SUMMARY:LIVE MUSIC
DESCRIPTION:Bring your Party to Frosty’s Spirits and Social Club! FREE LIVE MUSIC! Featuring Chris Frost and Chris Bremmer. Bring your talent! Open Mic for those who do!
URL:https://discoverstaples.com/event/live-music-2/
LOCATION:Batcher Block Opera House\, 418 2nd Ave NE\, Staples\, MI\, 56479\, United States
CATEGORIES:Music
ATTACH;FMTTYPE=image/jpeg:https://discoverstaples.com/wp-content/uploads/2024/03/IMG_1667-1-scaled.jpeg
END:VEVENT
BEGIN:VEVENT
DTSTART;TZID=America/Chicago:20241129T170000
DTEND;TZID=America/Chicago:20241129T200000
DTSTAMP:20260419T213913
CREATED:20241127T201022Z
LAST-MODIFIED:20241127T201022Z
UID:19114-1732899600-1732910400@discoverstaples.com
SUMMARY:The North Pole Drive Through Light Display
DESCRIPTION:Get in the Christmas spirit at the annual North Pole Drive Through Holiday Light Display! Fridays\, Saturdays and Sunday from 5pm-8pm\, November 29-December 29. Free Will Donation\, no buses please. \nBrought to you by Discover Staples\, Staples Lions Club\, and the City of Staples Parks & Recreation \n 
URL:https://discoverstaples.com/event/the-north-pole-drive-through-light-display/
LOCATION:Pine Grove Park\, 1012 Pine Grove Rd.\, Staples\, MN\, 56479\, United States
ORGANIZER;CN="Discover Staples":MAILTO:info@discoverstaples.com
END:VEVENT
BEGIN:VEVENT
DTSTART;TZID=America/Chicago:20240605T200000
DTEND;TZID=America/Chicago:20240605T233000
DTSTAMP:20260419T213913
CREATED:20240605T200728Z
LAST-MODIFIED:20240605T200728Z
UID:18564-1717617600-1717630200@discoverstaples.com
SUMMARY:Ladies Night- DJ & Karaoke!
DESCRIPTION:Ladies!! Come on out to the Boxcar every Wednesday for Ladies Night! Bring your dance shoes- there will be a DJ and Karaoke!
URL:https://discoverstaples.com/event/ladies-night-dj-karaoke/
LOCATION:The Boxcar\, 102 4th St NE\, Staples\, MN\, 56479\, United States
END:VEVENT
BEGIN:VEVENT
DTSTART;TZID=America/Chicago:20241129T170000
DTEND;TZID=America/Chicago:20241129T200000
DTSTAMP:20260419T213913
CREATED:20241127T201022Z
LAST-MODIFIED:20241127T201022Z
UID:19114-1732899600-1732910400@discoverstaples.com
SUMMARY:The North Pole Drive Through Light Display
DESCRIPTION:Get in the Christmas spirit at the annual North Pole Drive Through Holiday Light Display! Fridays\, Saturdays and Sunday from 5pm-8pm\, November 29-December 29. Free Will Donation\, no buses please. \nBrought to you by Discover Staples\, Staples Lions Club\, and the City of Staples Parks & Recreation \n 
URL:https://discoverstaples.com/event/the-north-pole-drive-through-light-display/
LOCATION:Pine Grove Park\, 1012 Pine Grove Rd.\, Staples\, MN\, 56479\, United States
ORGANIZER;CN="Discover Staples":MAILTO:info@discoverstaples.com
END:VEVENT
BEGIN:VEVENT
DTSTART;TZID=America/Chicago:20240112T173000
DTEND;TZID=America/Chicago:20240112T200000
DTSTAMP:20260419T213913
CREATED:20240126T040255Z
LAST-MODIFIED:20240126T040255Z
UID:18219-1705080600-1705089600@discoverstaples.com
SUMMARY:Meat Raffle
DESCRIPTION:Meat Raffle
URL:https://discoverstaples.com/event/meat-raffle/
LOCATION:B&Bs\, Staples\, United States
END:VEVENT
BEGIN:VEVENT
DTSTART;TZID=America/Chicago:20240308T190000
DTEND;TZID=America/Chicago:20240308T220000
DTSTAMP:20260419T213913
CREATED:20240313T145632Z
LAST-MODIFIED:20240313T145632Z
UID:18321-1709924400-1709935200@discoverstaples.com
SUMMARY:LIVE MUSIC
DESCRIPTION:Friday Nights 7:00 PM – 10:00 Featuring Chris Frost & Chris Bremmer and special guests! If you have a talent\, bring it to Frosty’s! Open Mic available to those who do!
URL:https://discoverstaples.com/event/live-music/
LOCATION:Batcher Block Opera House\, 418 2nd Ave NE\, Staples\, MI\, 56479\, United States
CATEGORIES:Music
ATTACH;FMTTYPE=image/jpeg:https://discoverstaples.com/wp-content/uploads/2024/03/IMG_1667-scaled.jpeg
END:VEVENT
BEGIN:VEVENT
DTSTART;TZID=America/Chicago:20241214T120000
DTEND;TZID=America/Chicago:20241214T160000
DTSTAMP:20260419T213913
CREATED:20241209T204901Z
LAST-MODIFIED:20241209T204901Z
UID:19160-1734177600-1734192000@discoverstaples.com
SUMMARY:The Polar Xpress- Holiday Festival
DESCRIPTION:Join us for a free and one-of-a-kind holiday event!\n\nCome see our spectacular G-scale model train displays\, which are sure to wow kids of all ages!\n\n-Massive model train displays-Free pictures with Santa-Festival of Trees – Hosted by the Staples Women of Today-Miniature train rides-Cookie decorating-Ornament crafts-Local railroad history artifacts\n\nOpen both Saturday & Sunday from 12pm – 4pm\nSponsored by the Staples Historical Society and Central Lakes College Student Senate
URL:https://discoverstaples.com/event/the-polar-xpress-holiday-festival/
LOCATION:Central Lakes College – Staples Campus\, 1830 Airport Rd\, Staples\, MN\, 56479\, United States
END:VEVENT
BEGIN:VEVENT
DTSTART;TZID=America/Chicago:20240309T130000
DTEND;TZID=America/Chicago:20240309T150000
DTSTAMP:20260419T213913
CREATED:20240306T174739Z
LAST-MODIFIED:20240306T174739Z
UID:18314-1709989200-1709996400@discoverstaples.com
SUMMARY:Bingo @ Beck's
DESCRIPTION:Join us every Saturday at 1:00 for Bingo at Beck’s Burger Co!
URL:https://discoverstaples.com/event/bingo-becks/
LOCATION:Beck’s Burger Co\, 119 3rd St NE\, Staples\, MN\, United States
END:VEVENT
BEGIN:VEVENT
DTSTART;TZID=America/Chicago:20241129T170000
DTEND;TZID=America/Chicago:20241129T200000
DTSTAMP:20260419T213913
CREATED:20241127T201022Z
LAST-MODIFIED:20241127T201022Z
UID:19114-1732899600-1732910400@discoverstaples.com
SUMMARY:The North Pole Drive Through Light Display
DESCRIPTION:Get in the Christmas spirit at the annual North Pole Drive Through Holiday Light Display! Fridays\, Saturdays and Sunday from 5pm-8pm\, November 29-December 29. Free Will Donation\, no buses please. \nBrought to you by Discover Staples\, Staples Lions Club\, and the City of Staples Parks & Recreation \n 
URL:https://discoverstaples.com/event/the-north-pole-drive-through-light-display/
LOCATION:Pine Grove Park\, 1012 Pine Grove Rd.\, Staples\, MN\, 56479\, United States
ORGANIZER;CN="Discover Staples":MAILTO:info@discoverstaples.com
END:VEVENT
END:VCALENDAR