BEGIN:VCALENDAR
VERSION:2.0
PRODID:-//Discover Staples - ECPv6.15.20//NONSGML v1.0//EN
CALSCALE:GREGORIAN
METHOD:PUBLISH
X-ORIGINAL-URL:https://discoverstaples.com
X-WR-CALDESC:Events for Discover Staples
REFRESH-INTERVAL;VALUE=DURATION:PT1H
X-Robots-Tag:noindex
X-PUBLISHED-TTL:PT1H
BEGIN:VTIMEZONE
TZID:America/Chicago
BEGIN:DAYLIGHT
TZOFFSETFROM:-0600
TZOFFSETTO:-0500
TZNAME:CDT
DTSTART:20220313T080000
END:DAYLIGHT
BEGIN:STANDARD
TZOFFSETFROM:-0500
TZOFFSETTO:-0600
TZNAME:CST
DTSTART:20221106T070000
END:STANDARD
BEGIN:DAYLIGHT
TZOFFSETFROM:-0600
TZOFFSETTO:-0500
TZNAME:CDT
DTSTART:20230312T080000
END:DAYLIGHT
BEGIN:STANDARD
TZOFFSETFROM:-0500
TZOFFSETTO:-0600
TZNAME:CST
DTSTART:20231105T070000
END:STANDARD
BEGIN:DAYLIGHT
TZOFFSETFROM:-0600
TZOFFSETTO:-0500
TZNAME:CDT
DTSTART:20240310T080000
END:DAYLIGHT
BEGIN:STANDARD
TZOFFSETFROM:-0500
TZOFFSETTO:-0600
TZNAME:CST
DTSTART:20241103T070000
END:STANDARD
END:VTIMEZONE
BEGIN:VEVENT
DTSTART;TZID=America/Chicago:20230525T140000
DTEND;TZID=America/Chicago:20230525T170000
DTSTAMP:20260423T094437
CREATED:20230706T022606Z
LAST-MODIFIED:20230706T022606Z
UID:17935-1685023200-1685034000@discoverstaples.com
SUMMARY:Farmers Market @ Lakewood Health System
DESCRIPTION:JOIN US from 2:00-5:30 p.m. THURSDAYS in the Lakewood Staples Clinic parking lot for the Lakewood Farmers Market! MAY – SEPTEMBER.\nThis is a great opportunity to support local producers and find some of the finest fresh produce\, baked goods\, honey\, jams/jellies and so much more.\nWe hope to see you there!\n\n*If you or someone you know participates in the SNAP nutrition benefits program\, you have the opportunity to exchange $10 SNAP for $30 in SNAP Market Bucks at the Staples Area Farmers Market. That’s a deal you can’t pass up! The market takes place every Thursday in the Lakewood clinic parking lot from 2:00 to 5:30 p.m.\n\n\nCheck out the link for more info on SNAP Market Bucks:\nMarket Bucks – Hunger Solutions
URL:https://discoverstaples.com/event/farmers-market-lakewood-health-system/
LOCATION:Lakewood Health System\, 49725 County 83\, Staples\, MN\, 56479\, United States
CATEGORIES:Community,Pet Friendly
ATTACH;FMTTYPE=image/jpeg:https://discoverstaples.com/wp-content/uploads/2023/06/348547516_217072881113965_7981952891188481129_n.jpg
END:VEVENT
BEGIN:VEVENT
DTSTART;TZID=America/Chicago:20230603T150000
DTEND;TZID=America/Chicago:20230603T190000
DTSTAMP:20260423T094437
CREATED:20230505T170729Z
LAST-MODIFIED:20230505T170729Z
UID:17808-1685804400-1685818800@discoverstaples.com
SUMMARY:CLC Diesel Club Truck Show
DESCRIPTION:Calling all big rigs and pickups!\nThe Central Lakes College Diesel Program in Staples\, MN is inviting you to enter your trucks in the upcoming truck show on Saturday\, June 3rd.\nBoth diesel and gassers are welcome!\nPlease fill out the entry form if you would like to show off your ride at this free event.\nhttps://forms.office.com/r/58hii8e4SN \nThis event is free and open to the public.
URL:https://discoverstaples.com/event/clc-diesel-club-truck-show/
LOCATION:Central Lakes College – Staples Campus\, 1830 Airport Rd\, Staples\, MN\, 56479\, United States
CATEGORIES:Community
ATTACH;FMTTYPE=image/jpeg:https://discoverstaples.com/wp-content/uploads/2023/05/TruckShow_DigitalSignage.jpg
ORGANIZER;CN="Central Lakes College":MAILTO:erich.heppner@clcmn.edu
END:VEVENT
BEGIN:VEVENT
DTSTART;TZID=America/Chicago:20230525T140000
DTEND;TZID=America/Chicago:20230525T170000
DTSTAMP:20260423T094437
CREATED:20230706T022606Z
LAST-MODIFIED:20230706T022606Z
UID:17935-1685023200-1685034000@discoverstaples.com
SUMMARY:Farmers Market @ Lakewood Health System
DESCRIPTION:JOIN US from 2:00-5:30 p.m. THURSDAYS in the Lakewood Staples Clinic parking lot for the Lakewood Farmers Market! MAY – SEPTEMBER.\nThis is a great opportunity to support local producers and find some of the finest fresh produce\, baked goods\, honey\, jams/jellies and so much more.\nWe hope to see you there!\n\n*If you or someone you know participates in the SNAP nutrition benefits program\, you have the opportunity to exchange $10 SNAP for $30 in SNAP Market Bucks at the Staples Area Farmers Market. That’s a deal you can’t pass up! The market takes place every Thursday in the Lakewood clinic parking lot from 2:00 to 5:30 p.m.\n\n\nCheck out the link for more info on SNAP Market Bucks:\nMarket Bucks – Hunger Solutions
URL:https://discoverstaples.com/event/farmers-market-lakewood-health-system/
LOCATION:Lakewood Health System\, 49725 County 83\, Staples\, MN\, 56479\, United States
CATEGORIES:Community,Pet Friendly
ATTACH;FMTTYPE=image/jpeg:https://discoverstaples.com/wp-content/uploads/2023/06/348547516_217072881113965_7981952891188481129_n.jpg
END:VEVENT
BEGIN:VEVENT
DTSTART;TZID=America/Chicago:20230525T140000
DTEND;TZID=America/Chicago:20230525T170000
DTSTAMP:20260423T094437
CREATED:20230706T022606Z
LAST-MODIFIED:20230706T022606Z
UID:17935-1685023200-1685034000@discoverstaples.com
SUMMARY:Farmers Market @ Lakewood Health System
DESCRIPTION:JOIN US from 2:00-5:30 p.m. THURSDAYS in the Lakewood Staples Clinic parking lot for the Lakewood Farmers Market! MAY – SEPTEMBER.\nThis is a great opportunity to support local producers and find some of the finest fresh produce\, baked goods\, honey\, jams/jellies and so much more.\nWe hope to see you there!\n\n*If you or someone you know participates in the SNAP nutrition benefits program\, you have the opportunity to exchange $10 SNAP for $30 in SNAP Market Bucks at the Staples Area Farmers Market. That’s a deal you can’t pass up! The market takes place every Thursday in the Lakewood clinic parking lot from 2:00 to 5:30 p.m.\n\n\nCheck out the link for more info on SNAP Market Bucks:\nMarket Bucks – Hunger Solutions
URL:https://discoverstaples.com/event/farmers-market-lakewood-health-system/
LOCATION:Lakewood Health System\, 49725 County 83\, Staples\, MN\, 56479\, United States
CATEGORIES:Community,Pet Friendly
ATTACH;FMTTYPE=image/jpeg:https://discoverstaples.com/wp-content/uploads/2023/06/348547516_217072881113965_7981952891188481129_n.jpg
END:VEVENT
BEGIN:VEVENT
DTSTART;TZID=America/Chicago:20230525T140000
DTEND;TZID=America/Chicago:20230525T170000
DTSTAMP:20260423T094437
CREATED:20230706T022606Z
LAST-MODIFIED:20230706T022606Z
UID:17935-1685023200-1685034000@discoverstaples.com
SUMMARY:Farmers Market @ Lakewood Health System
DESCRIPTION:JOIN US from 2:00-5:30 p.m. THURSDAYS in the Lakewood Staples Clinic parking lot for the Lakewood Farmers Market! MAY – SEPTEMBER.\nThis is a great opportunity to support local producers and find some of the finest fresh produce\, baked goods\, honey\, jams/jellies and so much more.\nWe hope to see you there!\n\n*If you or someone you know participates in the SNAP nutrition benefits program\, you have the opportunity to exchange $10 SNAP for $30 in SNAP Market Bucks at the Staples Area Farmers Market. That’s a deal you can’t pass up! The market takes place every Thursday in the Lakewood clinic parking lot from 2:00 to 5:30 p.m.\n\n\nCheck out the link for more info on SNAP Market Bucks:\nMarket Bucks – Hunger Solutions
URL:https://discoverstaples.com/event/farmers-market-lakewood-health-system/
LOCATION:Lakewood Health System\, 49725 County 83\, Staples\, MN\, 56479\, United States
CATEGORIES:Community,Pet Friendly
ATTACH;FMTTYPE=image/jpeg:https://discoverstaples.com/wp-content/uploads/2023/06/348547516_217072881113965_7981952891188481129_n.jpg
END:VEVENT
BEGIN:VEVENT
DTSTART;TZID=America/Chicago:20230525T140000
DTEND;TZID=America/Chicago:20230525T170000
DTSTAMP:20260423T094437
CREATED:20230706T022606Z
LAST-MODIFIED:20230706T022606Z
UID:17935-1685023200-1685034000@discoverstaples.com
SUMMARY:Farmers Market @ Lakewood Health System
DESCRIPTION:JOIN US from 2:00-5:30 p.m. THURSDAYS in the Lakewood Staples Clinic parking lot for the Lakewood Farmers Market! MAY – SEPTEMBER.\nThis is a great opportunity to support local producers and find some of the finest fresh produce\, baked goods\, honey\, jams/jellies and so much more.\nWe hope to see you there!\n\n*If you or someone you know participates in the SNAP nutrition benefits program\, you have the opportunity to exchange $10 SNAP for $30 in SNAP Market Bucks at the Staples Area Farmers Market. That’s a deal you can’t pass up! The market takes place every Thursday in the Lakewood clinic parking lot from 2:00 to 5:30 p.m.\n\n\nCheck out the link for more info on SNAP Market Bucks:\nMarket Bucks – Hunger Solutions
URL:https://discoverstaples.com/event/farmers-market-lakewood-health-system/
LOCATION:Lakewood Health System\, 49725 County 83\, Staples\, MN\, 56479\, United States
CATEGORIES:Community,Pet Friendly
ATTACH;FMTTYPE=image/jpeg:https://discoverstaples.com/wp-content/uploads/2023/06/348547516_217072881113965_7981952891188481129_n.jpg
END:VEVENT
END:VCALENDAR