BEGIN:VCALENDAR
VERSION:2.0
PRODID:-//Discover Staples - ECPv6.15.20//NONSGML v1.0//EN
CALSCALE:GREGORIAN
METHOD:PUBLISH
X-WR-CALNAME:Discover Staples
X-ORIGINAL-URL:https://discoverstaples.com
X-WR-CALDESC:Events for Discover Staples
REFRESH-INTERVAL;VALUE=DURATION:PT1H
X-Robots-Tag:noindex
X-PUBLISHED-TTL:PT1H
BEGIN:VTIMEZONE
TZID:America/Chicago
BEGIN:DAYLIGHT
TZOFFSETFROM:-0600
TZOFFSETTO:-0500
TZNAME:CDT
DTSTART:20220313T080000
END:DAYLIGHT
BEGIN:STANDARD
TZOFFSETFROM:-0500
TZOFFSETTO:-0600
TZNAME:CST
DTSTART:20221106T070000
END:STANDARD
BEGIN:DAYLIGHT
TZOFFSETFROM:-0600
TZOFFSETTO:-0500
TZNAME:CDT
DTSTART:20230312T080000
END:DAYLIGHT
BEGIN:STANDARD
TZOFFSETFROM:-0500
TZOFFSETTO:-0600
TZNAME:CST
DTSTART:20231105T070000
END:STANDARD
BEGIN:DAYLIGHT
TZOFFSETFROM:-0600
TZOFFSETTO:-0500
TZNAME:CDT
DTSTART:20240310T080000
END:DAYLIGHT
BEGIN:STANDARD
TZOFFSETFROM:-0500
TZOFFSETTO:-0600
TZNAME:CST
DTSTART:20241103T070000
END:STANDARD
END:VTIMEZONE
BEGIN:VEVENT
DTSTART;TZID=America/Chicago:20230715T130000
DTEND;TZID=America/Chicago:20230715T150000
DTSTAMP:20260425T074605
CREATED:20230705T200846Z
LAST-MODIFIED:20230705T201615Z
UID:17915-1689426000-1689433200@discoverstaples.com
SUMMARY:Bark In The Park
DESCRIPTION:This event has gone to the dogs!! Join us for an afternoon all about your favorite furry friends! For more information\, please visit our FB Event Page. (4) Bark in the Park | Facebook \nEvents Include: \nDog Friendly Food Truck – Charmed Coffee providing human and dog treats! \nDog Costume Contest \nDog Parade \nKiddy Pools for Dogs \nAdoptable Dogs from Regional Shelters \nKids Crafts \nFace Painting \nBalloon animal making station \nLocal Service Providers/Vendors
URL:https://discoverstaples.com/event/bark-in-the-park/
LOCATION:Lakewood Community Park/ Dinosour Park – Corner of 4th St NE/Prairie Ave NE\, MN\, 56479\, United States
CATEGORIES:Community,Pet Friendly
ATTACH;FMTTYPE=image/png:https://discoverstaples.com/wp-content/uploads/2023/07/1-e1688586789499.png
ORGANIZER;CN="Staples Chamber of Commerce":MAILTO:stapleschamber@gmail.com
END:VEVENT
END:VCALENDAR